BEGIN:VCALENDAR
VERSION:2.0
PRODID:-//Sylvie Hurel - ECPv6.15.20//NONSGML v1.0//EN
CALSCALE:GREGORIAN
METHOD:PUBLISH
X-WR-CALNAME:Sylvie Hurel
X-ORIGINAL-URL:https://sylviehurel.fr
X-WR-CALDESC:Évènements pour Sylvie Hurel
REFRESH-INTERVAL;VALUE=DURATION:PT1H
X-Robots-Tag:noindex
X-PUBLISHED-TTL:PT1H
BEGIN:VTIMEZONE
TZID:Europe/Paris
BEGIN:DAYLIGHT
TZOFFSETFROM:+0100
TZOFFSETTO:+0200
TZNAME:CEST
DTSTART:20220327T010000
END:DAYLIGHT
BEGIN:STANDARD
TZOFFSETFROM:+0200
TZOFFSETTO:+0100
TZNAME:CET
DTSTART:20221030T010000
END:STANDARD
BEGIN:DAYLIGHT
TZOFFSETFROM:+0100
TZOFFSETTO:+0200
TZNAME:CEST
DTSTART:20230326T010000
END:DAYLIGHT
BEGIN:STANDARD
TZOFFSETFROM:+0200
TZOFFSETTO:+0100
TZNAME:CET
DTSTART:20231029T010000
END:STANDARD
BEGIN:DAYLIGHT
TZOFFSETFROM:+0100
TZOFFSETTO:+0200
TZNAME:CEST
DTSTART:20240331T010000
END:DAYLIGHT
BEGIN:STANDARD
TZOFFSETFROM:+0200
TZOFFSETTO:+0100
TZNAME:CET
DTSTART:20241027T010000
END:STANDARD
END:VTIMEZONE
BEGIN:VEVENT
DTSTART;TZID=Europe/Paris:20230920T163000
DTEND;TZID=Europe/Paris:20230920T170000
DTSTAMP:20260426T034544
CREATED:20230829T123940Z
LAST-MODIFIED:20230829T123940Z
UID:5137-1695227400-1695229200@sylviehurel.fr
SUMMARY:Conférence décalée «Je vieillis et alors !»
DESCRIPTION:Conférence décalée «Je vieillis et alors !» avec Quidam théâtre \nLancement des Jeudis de la Santé et présentation du programme de la saison avec tous les intervenants. \nSur inscription 02.99.38.43.86  – 60 places – Gratuit \nhttps://www.leslongspres.fr/wp-content/uploads/2023/06/flyers-jeudis-de-la-sante.pdf \n  \n 
URL:https://sylviehurel.fr/event/conference-decalee-je-vieillis-et-alors/
LOCATION:Centre Les Longs Prés\, 3 rue des Longs Prés\, RENNES\, 35700\, France
CATEGORIES:Aromatologie,Retraite épanouie
END:VEVENT
END:VCALENDAR