BEGIN:VCALENDAR
VERSION:2.0
PRODID:-//Sylvie Hurel - ECPv6.15.20//NONSGML v1.0//EN
CALSCALE:GREGORIAN
METHOD:PUBLISH
X-WR-CALNAME:Sylvie Hurel
X-ORIGINAL-URL:https://sylviehurel.fr
X-WR-CALDESC:Évènements pour Sylvie Hurel
REFRESH-INTERVAL;VALUE=DURATION:PT1H
X-Robots-Tag:noindex
X-PUBLISHED-TTL:PT1H
BEGIN:VTIMEZONE
TZID:Europe/Paris
BEGIN:DAYLIGHT
TZOFFSETFROM:+0100
TZOFFSETTO:+0200
TZNAME:CEST
DTSTART:20230326T010000
END:DAYLIGHT
BEGIN:STANDARD
TZOFFSETFROM:+0200
TZOFFSETTO:+0100
TZNAME:CET
DTSTART:20231029T010000
END:STANDARD
BEGIN:DAYLIGHT
TZOFFSETFROM:+0100
TZOFFSETTO:+0200
TZNAME:CEST
DTSTART:20240331T010000
END:DAYLIGHT
BEGIN:STANDARD
TZOFFSETFROM:+0200
TZOFFSETTO:+0100
TZNAME:CET
DTSTART:20241027T010000
END:STANDARD
BEGIN:DAYLIGHT
TZOFFSETFROM:+0100
TZOFFSETTO:+0200
TZNAME:CEST
DTSTART:20250330T010000
END:DAYLIGHT
BEGIN:STANDARD
TZOFFSETFROM:+0200
TZOFFSETTO:+0100
TZNAME:CET
DTSTART:20251026T010000
END:STANDARD
END:VTIMEZONE
BEGIN:VEVENT
DTSTART;TZID=Europe/Paris:20240217T110000
DTEND;TZID=Europe/Paris:20240217T114500
DTSTAMP:20260425T194353
CREATED:20231226T112443Z
LAST-MODIFIED:20240207T131354Z
UID:5367-1708167600-1708170300@sylviehurel.fr
SUMMARY:Respire la Vie - Atelier "Découverte de l'ikigaï"
DESCRIPTION:Dans le cadre du salon « Respire la Vie » \nhttps://www.respirelavie.fr/rennes/programme-du-salon/ateliers-pratiques/
URL:https://sylviehurel.fr/event/atelier-decouverte-de-likigai/
LOCATION:Parc-expo de Rennes Aéroport Hall 3\, La Haie Gautrais\, BRUZ\, 35172\, France
CATEGORIES:Ikigaï
ATTACH;FMTTYPE=image/jpeg:https://sylviehurel.fr/wp-content/uploads/2023/12/respire-la-vie-2024.jpg
ORGANIZER;CN="Sylvie Hurel":MAILTO:contact@sylviehurel.fr
END:VEVENT
END:VCALENDAR