BEGIN:VCALENDAR
VERSION:2.0
PRODID:-//Sylvie Hurel - ECPv6.15.20//NONSGML v1.0//EN
CALSCALE:GREGORIAN
METHOD:PUBLISH
X-WR-CALNAME:Sylvie Hurel
X-ORIGINAL-URL:https://sylviehurel.fr
X-WR-CALDESC:Évènements pour Sylvie Hurel
REFRESH-INTERVAL;VALUE=DURATION:PT1H
X-Robots-Tag:noindex
X-PUBLISHED-TTL:PT1H
BEGIN:VTIMEZONE
TZID:Europe/Paris
BEGIN:DAYLIGHT
TZOFFSETFROM:+0100
TZOFFSETTO:+0200
TZNAME:CEST
DTSTART:20240331T010000
END:DAYLIGHT
BEGIN:STANDARD
TZOFFSETFROM:+0200
TZOFFSETTO:+0100
TZNAME:CET
DTSTART:20241027T010000
END:STANDARD
BEGIN:DAYLIGHT
TZOFFSETFROM:+0100
TZOFFSETTO:+0200
TZNAME:CEST
DTSTART:20250330T010000
END:DAYLIGHT
BEGIN:STANDARD
TZOFFSETFROM:+0200
TZOFFSETTO:+0100
TZNAME:CET
DTSTART:20251026T010000
END:STANDARD
BEGIN:DAYLIGHT
TZOFFSETFROM:+0100
TZOFFSETTO:+0200
TZNAME:CEST
DTSTART:20260329T010000
END:DAYLIGHT
BEGIN:STANDARD
TZOFFSETFROM:+0200
TZOFFSETTO:+0100
TZNAME:CET
DTSTART:20261025T010000
END:STANDARD
END:VTIMEZONE
BEGIN:VEVENT
DTSTART;TZID=Europe/Paris:20250426T100000
DTEND;TZID=Europe/Paris:20250426T130000
DTSTAMP:20260424T221253
CREATED:20250210T141054Z
LAST-MODIFIED:20250210T141054Z
UID:5726-1745661600-1745672400@sylviehurel.fr
SUMMARY:Venez explorer le bien-être à la japonaise - 3ème édition
DESCRIPTION:3ème édition de notre évènement « Venez explorer le bien-être à la japonaise »\nVoici l’itinéraire du voyage que nous vous proposons :\n* 1ère escale : la découverte joyeuse et ludique de la philosophie de l’ikigaï avec Sylvie Hurel Accompagnante Transition de Vie.\n* 2ème escale : la pratique du Jin Shin Jyutsu un art énergétique japonais d’harmonisation du corps\, du mental et des émotions avec Armelle Hachet. Vers son diapason intérieur\n* 3ème escale : l’initiation au kokedama\, cet art végétal japonais\, qui consiste à créer une structure entourée de mousse\, pour accueillir les racines de la plante par Gwendoline Chevalier. Vous repartirez avec votre création unique\, à votre image. \nQuand : Samedi 26 avril 2025\nOù : OPAR – 62 rue de Dinan à Rennes\nDurée : de 10h à 13h\nPrix : 40€\nVenez vous détendre\, créer\, et vous reconnecter à vous-même dans un cadre convivial et apaisant. \nRéservez vite votre place ! \nPartagez ce voyage autour de vous \n#ikigai #jinshinjyutsu #kokedama #bienetre #japon #rennes
URL:https://sylviehurel.fr/event/venez-explorer-le-bien-etre-a-la-japonaise-3eme-edition/
LOCATION:OPAR\, 62 rue de Dinan\, RENNES\, 35000\, France Métropolitaine
CATEGORIES:Ikigaï,Psychologie Positive
ATTACH;FMTTYPE=image/png:https://sylviehurel.fr/wp-content/uploads/2025/02/Eveil-interieur-Venez-explorer-le-bien-etre-a-la-japonaise-2.png
ORGANIZER;CN="Sylvie Hurel":MAILTO:contact@sylviehurel.fr
END:VEVENT
END:VCALENDAR