BEGIN:VCALENDAR
VERSION:2.0
PRODID:-//Sylvie Hurel - ECPv6.15.20//NONSGML v1.0//EN
CALSCALE:GREGORIAN
METHOD:PUBLISH
X-ORIGINAL-URL:https://sylviehurel.fr
X-WR-CALDESC:Évènements pour Sylvie Hurel
REFRESH-INTERVAL;VALUE=DURATION:PT1H
X-Robots-Tag:noindex
X-PUBLISHED-TTL:PT1H
BEGIN:VTIMEZONE
TZID:Europe/Paris
BEGIN:DAYLIGHT
TZOFFSETFROM:+0100
TZOFFSETTO:+0200
TZNAME:CEST
DTSTART:20250330T010000
END:DAYLIGHT
BEGIN:STANDARD
TZOFFSETFROM:+0200
TZOFFSETTO:+0100
TZNAME:CET
DTSTART:20251026T010000
END:STANDARD
BEGIN:DAYLIGHT
TZOFFSETFROM:+0100
TZOFFSETTO:+0200
TZNAME:CEST
DTSTART:20260329T010000
END:DAYLIGHT
BEGIN:STANDARD
TZOFFSETFROM:+0200
TZOFFSETTO:+0100
TZNAME:CET
DTSTART:20261025T010000
END:STANDARD
BEGIN:DAYLIGHT
TZOFFSETFROM:+0100
TZOFFSETTO:+0200
TZNAME:CEST
DTSTART:20270328T010000
END:DAYLIGHT
BEGIN:STANDARD
TZOFFSETFROM:+0200
TZOFFSETTO:+0100
TZNAME:CET
DTSTART:20271031T010000
END:STANDARD
END:VTIMEZONE
BEGIN:VEVENT
DTSTART;TZID=Europe/Paris:20260131T140000
DTEND;TZID=Europe/Paris:20260131T170000
DTSTAMP:20260424T083733
CREATED:20251106T135316Z
LAST-MODIFIED:20251106T143315Z
UID:5839-1769868000-1769878800@sylviehurel.fr
SUMMARY:Venez explorer le bien-être à la japonaise
DESCRIPTION:Une 3ème édition en préparation de notre évènement\n« Venez explorer le bien-être à la japonaise« \n\nVoici l’itinéraire du voyage que nous vous proposons :\n* 1ère escale : la découverte joyeuse et ludique de la philosophie de l’ikigaï avec Sylvie Hurel Accompagnante Transition de Vie.\n* 2ème escale : la pratique du Jin Shin Jyutsu un art énergétique japonaisd’harmonisation du corps\, du mental et des émotions avec Armelle Hachet.\n* 3ème escale : l’initiation au kokedama\, cet art végétal japonais\, qui consiste à créer une structure entourée de mousse\, pour accueillir les racines de la plante par Gwendoline Chevalier.\nVous repartirez avec votre création unique\, à votre image.\nQuand : Samedi 31 janvier 2026\nOù : OPAR – 62 rue de Dinan à Rennes\nDurée : de 14h à 17h\nPrix : 45€\nVenez vous détendre\, créer\, et vous reconnecter à vous-même dans un cadre convivial et apaisant.\nRéservez vite votre place ! Partagez ce voyage autour de vous ! \ncontact@sylviehurel.fr
URL:https://sylviehurel.fr/event/venez-explorer-le-bien-etre-a-la-japonaise/
LOCATION:OPAR\, 62 rue de Dinan\, RENNES\, 35000\, France Métropolitaine
CATEGORIES:Ikigaï
ATTACH;FMTTYPE=image/png:https://sylviehurel.fr/wp-content/uploads/2025/11/Eveil-interieur-Venez-explorer-le-bien-etre-a-la-japonaise-6.png
END:VEVENT
END:VCALENDAR