BEGIN:VCALENDAR
VERSION:2.0
PRODID:-//Sylvie Hurel - ECPv6.15.20//NONSGML v1.0//EN
CALSCALE:GREGORIAN
METHOD:PUBLISH
X-WR-CALNAME:Sylvie Hurel
X-ORIGINAL-URL:https://sylviehurel.fr
X-WR-CALDESC:Évènements pour Sylvie Hurel
REFRESH-INTERVAL;VALUE=DURATION:PT1H
X-Robots-Tag:noindex
X-PUBLISHED-TTL:PT1H
BEGIN:VTIMEZONE
TZID:Europe/Paris
BEGIN:DAYLIGHT
TZOFFSETFROM:+0100
TZOFFSETTO:+0200
TZNAME:CEST
DTSTART:20240331T010000
END:DAYLIGHT
BEGIN:STANDARD
TZOFFSETFROM:+0200
TZOFFSETTO:+0100
TZNAME:CET
DTSTART:20241027T010000
END:STANDARD
BEGIN:DAYLIGHT
TZOFFSETFROM:+0100
TZOFFSETTO:+0200
TZNAME:CEST
DTSTART:20250330T010000
END:DAYLIGHT
BEGIN:STANDARD
TZOFFSETFROM:+0200
TZOFFSETTO:+0100
TZNAME:CET
DTSTART:20251026T010000
END:STANDARD
BEGIN:DAYLIGHT
TZOFFSETFROM:+0100
TZOFFSETTO:+0200
TZNAME:CEST
DTSTART:20260329T010000
END:DAYLIGHT
BEGIN:STANDARD
TZOFFSETFROM:+0200
TZOFFSETTO:+0100
TZNAME:CET
DTSTART:20261025T010000
END:STANDARD
END:VTIMEZONE
BEGIN:VEVENT
DTSTART;TZID=Europe/Paris:20251008T143000
DTEND;TZID=Europe/Paris:20251008T160000
DTSTAMP:20260424T130810
CREATED:20250813T144130Z
LAST-MODIFIED:20250813T144130Z
UID:5787-1759933800-1759939200@sylviehurel.fr
SUMMARY:Rentrée des ateliers Aroma
DESCRIPTION:
URL:https://sylviehurel.fr/event/rentree-des-ateliers-aroma/
LOCATION:OPAR\, 62 rue de Dinan\, RENNES\, 35000\, France Métropolitaine
CATEGORIES:Aromatologie,Retraite épanouie
ATTACH;FMTTYPE=image/png:https://sylviehurel.fr/wp-content/uploads/2025/08/2025_Affiche-ateliers-aroma.png
ORGANIZER;CN="Sylvie Hurel":MAILTO:contact@sylviehurel.fr
END:VEVENT
END:VCALENDAR